BEGIN:VCALENDAR
VERSION:2.0
PRODID:-//IPA ÚS 206 Hranice - ECPv6.15.20//NONSGML v1.0//EN
CALSCALE:GREGORIAN
METHOD:PUBLISH
X-WR-CALNAME:IPA ÚS 206 Hranice
X-ORIGINAL-URL:https://hranice.ipacz.cz
X-WR-CALDESC:Akce na IPA ÚS 206 Hranice
REFRESH-INTERVAL;VALUE=DURATION:PT1H
X-Robots-Tag:noindex
X-PUBLISHED-TTL:PT1H
BEGIN:VTIMEZONE
TZID:Europe/Prague
BEGIN:DAYLIGHT
TZOFFSETFROM:+0100
TZOFFSETTO:+0200
TZNAME:CEST
DTSTART:20250330T010000
END:DAYLIGHT
BEGIN:STANDARD
TZOFFSETFROM:+0200
TZOFFSETTO:+0100
TZNAME:CET
DTSTART:20251026T010000
END:STANDARD
BEGIN:DAYLIGHT
TZOFFSETFROM:+0100
TZOFFSETTO:+0200
TZNAME:CEST
DTSTART:20260329T010000
END:DAYLIGHT
BEGIN:STANDARD
TZOFFSETFROM:+0200
TZOFFSETTO:+0100
TZNAME:CET
DTSTART:20261025T010000
END:STANDARD
BEGIN:DAYLIGHT
TZOFFSETFROM:+0100
TZOFFSETTO:+0200
TZNAME:CEST
DTSTART:20270328T010000
END:DAYLIGHT
BEGIN:STANDARD
TZOFFSETFROM:+0200
TZOFFSETTO:+0100
TZNAME:CET
DTSTART:20271031T010000
END:STANDARD
END:VTIMEZONE
BEGIN:VEVENT
DTSTART;VALUE=DATE:20260425
DTEND;VALUE=DATE:20260426
DTSTAMP:20260419T162747
CREATED:20260126T180612Z
LAST-MODIFIED:20260223T153525Z
UID:2304-1777075200-1777161599@hranice.ipacz.cz
SUMMARY:17. ročník florbalového turnaje o Pohár IPA Hranice 2026\, Česko
DESCRIPTION:Pozor změna termínu! \nDne 25. dubna 2026 se uskuteční již 17. ročník florbalového turnaje o Pohár IPA Hranice 2026\, turnaj se bude konat nově ve sportovní hale Naparia. \nZávazné přihlášky zašlete prosím nejpozději do 31. března 2026\, startovné ve výši 2.000 Kč zašlete nejpozději do 31. března 2026\, bližší informace naleznete v přiložené pozvánce. \nPozvánka
URL:https://hranice.ipacz.cz/akce/17-rocnik-florbaloveho-turnaje-o-pohar-ipa-hranice-2026-cesko/
LOCATION:Sportovní centrum Naparia\, Smetanovo nábř. 2180\, Hranice 1\, 753 01\, Czech Republic
ATTACH;FMTTYPE=image/jpeg:https://hranice.ipacz.cz/wordpress-hranice/wp-content/uploads/2024/03/hranice_florbal_2024_001.jpg
END:VEVENT
BEGIN:VEVENT
DTSTART;VALUE=DATE:20260513
DTEND;VALUE=DATE:20260518
DTSTAMP:20260419T162747
CREATED:20260310T174732Z
LAST-MODIFIED:20260310T174732Z
UID:2322-1778630400-1779062399@hranice.ipacz.cz
SUMMARY:21. ročník mezinárodního turnaje v minifotbale Lotus Cup 2026\, Rumunsko
DESCRIPTION:Ve dnech 13. – 17. května 2026 pořádá IPA Rumunsko 21. ročník mezinárodního turnaje v minifotbale Lotus Cup 2026\, který se uskuteční v krásném letovisku Băile Felix v rumunském městě Oradea. \nTurnaj je určený pro týmy mužů do 35 let\, mužů nad 35 let a mužů nad 45 let. \nÚčastníci se mohou těšit nejen na vzrušující zápasy a sportovní zážitky na vysoké úrovni\, ale také na komplexní program\, který kombinuje relaxaci\, networking a společenské aktivity v příjemné atmosféře. \nPřihlášku (včetně zápisného) je třeba zaslat nejpozději do 31. března 2026. \nVíce informací se dozvíte na webových stránkách https://www.cupalotus-ipabihor3.ro/.  \nPozvánka
URL:https://hranice.ipacz.cz/akce/21-rocnik-mezinarodniho-turnaje-v-minifotbale-lotus-cup-2026-rumunsko/
LOCATION:Lotus Cup\, Inspectoratul Județean de Jandarmi\, Strada Universității 2\, Oradea\, Romania
ATTACH;FMTTYPE=image/jpeg:https://hranice.ipacz.cz/wordpress-hranice/wp-content/uploads/2026/03/invitation_lotus_cup_2026.jpg
END:VEVENT
BEGIN:VEVENT
DTSTART;VALUE=DATE:20260605
DTEND;VALUE=DATE:20260607
DTSTAMP:20260419T162747
CREATED:20260228T174811Z
LAST-MODIFIED:20260228T174811Z
UID:2312-1780617600-1780790399@hranice.ipacz.cz
SUMMARY:IX. ročník Nočního IPA pochodu\, Česko
DESCRIPTION:Ve dnech 5. – 6. června 2026 se uskuteční IX. ročník Nočního IPA pochodu\, který pořádá IPA – ÚS č. 206 Hranice. Start pochodu bude od Nového klubu\, který se nachází v areálu kasáren VÚ 4428 Hranice\, okr. Přerov. \nStartovné pochodu je pro řádnou registraci do 30. dubna 2026 (do 24:00 hod.) stanoveno na 750\,- Kč\, poté bude navýšeno na 850\,- Kč. \nNa letošní IX. ročník Nočního IPA pochodu plynule navazuje XII. ročník IPA pochodu. \nVíce informací se dozvíte na webu IPA pochodu.
URL:https://hranice.ipacz.cz/akce/ix-rocnik-nocniho-ipa-pochodu-cesko/
LOCATION:Nový klub – areál kasáren VÚ 4428 Hranice\, Kpt. Jaroše 1186\, Hranice\, 75301\, Česká republika
ATTACH;FMTTYPE=image/png:https://hranice.ipacz.cz/wordpress-hranice/wp-content/uploads/2026/02/hranice_ipa_pochod_2026_ipacz.png
END:VEVENT
BEGIN:VEVENT
DTSTART;VALUE=DATE:20260606
DTEND;VALUE=DATE:20260607
DTSTAMP:20260419T162747
CREATED:20260228T175037Z
LAST-MODIFIED:20260228T175037Z
UID:2315-1780704000-1780790399@hranice.ipacz.cz
SUMMARY:XII. ročník IPA pochodu\, Česko
DESCRIPTION:Dne 6. června 2026 se uskuteční XII. ročník IPA pochodu\, který pořádá IPA – ÚS č. 206 Hranice. Start pochodu bude od Nového klubu\, který se nachází v areálu kasáren VÚ 4428 Hranice\, okr. Přerov. \nStartovné pochodu je pro řádnou registraci do 30. dubna 2026 (do 24:00 hod.) stanoveno na 750\,- Kč\, poté bude navýšeno na 850\,- Kč. \nLetošnímu XII. ročníku IPA pochodu předchází IX. ročník Nočního IPA pochodu. \nVíce informací se dozvíte na webu IPA pochodu.
URL:https://hranice.ipacz.cz/akce/xii-rocnik-ipa-pochodu-cesko/
LOCATION:Nový klub – areál kasáren VÚ 4428 Hranice\, Kpt. Jaroše 1186\, Hranice\, 75301\, Česká republika
ATTACH;FMTTYPE=image/png:https://hranice.ipacz.cz/wordpress-hranice/wp-content/uploads/2026/02/hranice_ipa_pochod_2026_ipacz.png
END:VEVENT
END:VCALENDAR